BEGIN:VCALENDAR
VERSION:2.0
PRODID:-//kavaworks - ECPv6.15.14//NONSGML v1.0//EN
CALSCALE:GREGORIAN
METHOD:PUBLISH
X-ORIGINAL-URL:https://kavaworks.com
X-WR-CALDESC:Events for kavaworks
REFRESH-INTERVAL;VALUE=DURATION:PT1H
X-Robots-Tag:noindex
X-PUBLISHED-TTL:PT1H
BEGIN:VTIMEZONE
TZID:America/New_York
BEGIN:DAYLIGHT
TZOFFSETFROM:-0500
TZOFFSETTO:-0400
TZNAME:EDT
DTSTART:20240310T070000
END:DAYLIGHT
BEGIN:STANDARD
TZOFFSETFROM:-0400
TZOFFSETTO:-0500
TZNAME:EST
DTSTART:20241103T060000
END:STANDARD
BEGIN:DAYLIGHT
TZOFFSETFROM:-0500
TZOFFSETTO:-0400
TZNAME:EDT
DTSTART:20250309T070000
END:DAYLIGHT
BEGIN:STANDARD
TZOFFSETFROM:-0400
TZOFFSETTO:-0500
TZNAME:EST
DTSTART:20251102T060000
END:STANDARD
BEGIN:DAYLIGHT
TZOFFSETFROM:-0500
TZOFFSETTO:-0400
TZNAME:EDT
DTSTART:20260308T070000
END:DAYLIGHT
BEGIN:STANDARD
TZOFFSETFROM:-0400
TZOFFSETTO:-0500
TZNAME:EST
DTSTART:20261101T060000
END:STANDARD
END:VTIMEZONE
BEGIN:VEVENT
DTSTART;TZID=America/New_York:20251231T080000
DTEND;TZID=America/New_York:20251231T170000
DTSTAMP:20260424T061908
CREATED:20251126T040207Z
LAST-MODIFIED:20251126T040837Z
UID:2016-1767168000-1767200400@kavaworks.com
SUMMARY:New Kava Year Eve - $7 Teas al Day
DESCRIPTION:New Kava Year Eve – $7 Teas al Day Description
URL:https://kavaworks.com/event/new-kava-year-eve-7-teas-al-day/
ATTACH;FMTTYPE=image/png:https://kavaworks.com/wp-content/uploads/2025/11/Icons-Calendar-December-2025-06.png
END:VEVENT
END:VCALENDAR